View In:
ArcGIS JavaScript
ArcGIS Online Map Viewer
ArcGIS Earth
ArcMap
View Footprint In:
ArcGIS Online Map Viewer
Service Description: NYNHP/ADK_Hemlock
Name: NYNHP/ADK_Hemlock
Description:
Single Fused Map Cache: false
Extent:
XMin: 473445.907193383
YMin: 4765741.292526688
XMax: 636805.907193383
YMax: 4971121.292526688
Spatial Reference: 26918
(26918)
Initial Extent:
XMin: 473445.907193383
YMin: 4765741.292526688
XMax: 636805.907193383
YMax: 4971121.292526688
Spatial Reference: 26918
(26918)
Full Extent:
XMin: 473445.907193383
YMin: 4765741.292526688
XMax: 636805.907193383
YMax: 4971121.292526688
Spatial Reference: 26918
(26918)
Pixel Size X: 19.999999999999993
Pixel Size Y: 20.0
Band Count: 1
Pixel Type: F32
RasterFunction Infos: {"rasterFunctionInfos": [{
"name": "None",
"description": "",
"help": ""
}]}
Mensuration Capabilities: Basic
Has Histograms: true
Has Colormap: false
Has Multi Dimensions : false
Rendering Rule:
Min Scale: 0
Max Scale: 0
Copyright Text:
Service Data Type: esriImageServiceDataTypeGeneric
Min Values: 0
Max Values: 0.8364999890327454
Mean Values: 0.08184192672240787
Standard Deviation Values: 0.07100262944125907
Object ID Field:
Fields:
None
Default Mosaic Method: Center
Allowed Mosaic Methods:
SortField:
SortValue: null
Mosaic Operator: First
Default Compression Quality: 75
Default Resampling Method: Bilinear
Max Record Count: null
Max Image Height: 4100
Max Image Width: 15000
Max Download Image Count: null
Max Mosaic Image Count: null
Allow Raster Function: true
Allow Copy: null
Allow Analysis: null
Allow Compute TiePoints: false
Supports Statistics: false
Supports Advanced Queries: false
Use StandardizedQueries: true
Raster Type Infos:
Name: Raster Dataset
Description: Supports all ArcGIS Raster Datasets
Help:
Has Raster Attribute Table: false
Edit Fields Info: null
Ownership Based AccessControl For Rasters: null
Child Resources:
Info
Histograms
Key Properties
Legend
Raster Function Infos
Supported Operations:
Export Image
Identify
Measure
Compute Histograms
Compute Statistics Histograms
Get Samples
Compute Class Statistics
Query Boundary
Compute Pixel Location
Compute Angles
Validate
Project