{
 "currentVersion": 10.91,
 "serviceDescription": "NYNHP/ADK_Hemlock",
 "name": "NYNHP/ADK_Hemlock",
 "description": "",
 "extent": {
  "xmin": 473445.907193383,
  "ymin": 4765741.292526688,
  "xmax": 636805.907193383,
  "ymax": 4971121.292526688,
  "spatialReference": {
   "wkid": 26918,
   "latestWkid": 26918
  }
 },
 "initialExtent": {
  "xmin": 473445.907193383,
  "ymin": 4765741.292526688,
  "xmax": 636805.907193383,
  "ymax": 4971121.292526688,
  "spatialReference": {
   "wkid": 26918,
   "latestWkid": 26918
  }
 },
 "fullExtent": {
  "xmin": 473445.907193383,
  "ymin": 4765741.292526688,
  "xmax": 636805.907193383,
  "ymax": 4971121.292526688,
  "spatialReference": {
   "wkid": 26918,
   "latestWkid": 26918
  }
 },
 "pixelSizeX": 19.999999999999993,
 "pixelSizeY": 20,
 "bandCount": 1,
 "pixelType": "F32",
 "minPixelSize": 0,
 "maxPixelSize": 0,
 "copyrightText": "",
 "serviceDataType": "esriImageServiceDataTypeGeneric",
 "minValues": [
  0
 ],
 "maxValues": [
  0.8364999890327454
 ],
 "meanValues": [
  0.08184192672240787
 ],
 "stdvValues": [
  0.07100262944125907
 ],
 "objectIdField": "",
 "fields": [],
 "capabilities": "Image,Metadata,Mensuration",
 "defaultMosaicMethod": "Center",
 "allowedMosaicMethods": "",
 "sortField": "",
 "sortValue": null,
 "sortAscending": true,
 "mosaicOperator": "First",
 "defaultCompressionQuality": 75,
 "defaultResamplingMethod": "Bilinear",
 "maxImageHeight": 4100,
 "maxImageWidth": 15000,
 "allowRasterFunction": true,
 "rasterFunctionInfos": [
  {
   "name": "None",
   "description": "",
   "help": ""
  }
 ],
 "rasterTypeInfos": [
  {
   "name": "Raster Dataset",
   "description": "Supports all ArcGIS Raster Datasets",
   "help": ""
  }
 ],
 "mensurationCapabilities": "Basic",
 "hasHistograms": true,
 "hasColormap": false,
 "hasRasterAttributeTable": false,
 "minScale": 0,
 "maxScale": 0,
 "exportTilesAllowed": false,
 "hasMultidimensions": false,
 "supportsStatistics": false,
 "supportsAdvancedQueries": false,
 "editFieldsInfo": null,
 "ownershipBasedAccessControlForRasters": null,
 "allowComputeTiePoints": false,
 "useStandardizedQueries": true,
 "advancedQueryCapabilities": {
  "useStandardizedQueries": true,
  "supportsStatistics": false,
  "supportsOrderBy": false,
  "supportsDistinct": false,
  "supportsPagination": false
 },
 "spatialReference": {
  "wkid": 26918,
  "latestWkid": 26918
 }
}
